BEGIN:VCALENDAR
VERSION:2.0
PRODID:-//Toronto Scottish Rugby Football Club - ECPv6.15.17//NONSGML v1.0//EN
CALSCALE:GREGORIAN
METHOD:PUBLISH
X-ORIGINAL-URL:https://torontoscottish.ca
X-WR-CALDESC:Events for Toronto Scottish Rugby Football Club
REFRESH-INTERVAL;VALUE=DURATION:PT1H
X-Robots-Tag:noindex
X-PUBLISHED-TTL:PT1H
BEGIN:VTIMEZONE
TZID:America/Toronto
BEGIN:DAYLIGHT
TZOFFSETFROM:-0500
TZOFFSETTO:-0400
TZNAME:EDT
DTSTART:20250309T070000
END:DAYLIGHT
BEGIN:STANDARD
TZOFFSETFROM:-0400
TZOFFSETTO:-0500
TZNAME:EST
DTSTART:20251102T060000
END:STANDARD
BEGIN:DAYLIGHT
TZOFFSETFROM:-0500
TZOFFSETTO:-0400
TZNAME:EDT
DTSTART:20260308T070000
END:DAYLIGHT
BEGIN:STANDARD
TZOFFSETFROM:-0400
TZOFFSETTO:-0500
TZNAME:EST
DTSTART:20261101T060000
END:STANDARD
BEGIN:DAYLIGHT
TZOFFSETFROM:-0500
TZOFFSETTO:-0400
TZNAME:EDT
DTSTART:20270314T070000
END:DAYLIGHT
BEGIN:STANDARD
TZOFFSETFROM:-0400
TZOFFSETTO:-0500
TZNAME:EST
DTSTART:20271107T060000
END:STANDARD
END:VTIMEZONE
BEGIN:VEVENT
DTSTART;TZID=America/Toronto:20260606T123000
DTEND;TZID=America/Toronto:20260606T123000
DTSTAMP:20260420T062032
CREATED:20260223T194904Z
LAST-MODIFIED:20260226T011205Z
UID:10000047-1780749000-1780749000@torontoscottish.ca
SUMMARY:TSRFC 1 (W) @ Ottawa Irish
DESCRIPTION:
URL:https://torontoscottish.ca/index.php/event/tsrfc-1-w-v-ottawa-irish/
LOCATION:Ottawa Irish Rugby Club\, 2381 Ogilvie Rd\, Gloucester\, ON\, K1J 7N4
CATEGORIES:Fixtures,Women's 1st XV
END:VEVENT
BEGIN:VEVENT
DTSTART;TZID=America/Toronto:20260613T123000
DTEND;TZID=America/Toronto:20260613T123000
DTSTAMP:20260420T062032
CREATED:20260223T194905Z
LAST-MODIFIED:20260226T011430Z
UID:10000048-1781353800-1781353800@torontoscottish.ca
SUMMARY:TSRFC 1 (W) v Waterloo County
DESCRIPTION:
URL:https://torontoscottish.ca/index.php/event/tsrfc-1-w-v-waterloo-county-2/
LOCATION:Sunnybrook Park\, 1132 Leslie St\, Toronto\, ON
CATEGORIES:Fixtures,Women's 1st XV
END:VEVENT
BEGIN:VEVENT
DTSTART;TZID=America/Toronto:20260620T123000
DTEND;TZID=America/Toronto:20260620T123000
DTSTAMP:20260420T062032
CREATED:20260223T194906Z
LAST-MODIFIED:20260226T011510Z
UID:10000049-1781958600-1781958600@torontoscottish.ca
SUMMARY:TSRFC 1 (W) v Burlington Centaurs
DESCRIPTION:
URL:https://torontoscottish.ca/index.php/event/tsrfc-1-w-v-burlington-centaurs-2/
LOCATION:Sunnybrook Park\, 1132 Leslie St\, Toronto\, ON
CATEGORIES:Fixtures,Women's 1st XV
END:VEVENT
BEGIN:VEVENT
DTSTART;TZID=America/Toronto:20260627T123000
DTEND;TZID=America/Toronto:20260627T123000
DTSTAMP:20260420T062032
CREATED:20260223T194906Z
LAST-MODIFIED:20260226T011551Z
UID:10000050-1782563400-1782563400@torontoscottish.ca
SUMMARY:TSRFC 1 (W) v Peterborough Pagans
DESCRIPTION:
URL:https://torontoscottish.ca/index.php/event/tsrfc-1-w-v-peterborough-pagans/
LOCATION:Sunnybrook Park\, 1132 Leslie St\, Toronto\, ON
CATEGORIES:Fixtures,Women's 1st XV
END:VEVENT
END:VCALENDAR