BEGIN:VCALENDAR
VERSION:2.0
PRODID:-//Toronto Scottish Rugby Football Club - ECPv6.15.17//NONSGML v1.0//EN
CALSCALE:GREGORIAN
METHOD:PUBLISH
X-WR-CALNAME:Toronto Scottish Rugby Football Club
X-ORIGINAL-URL:https://torontoscottish.ca
X-WR-CALDESC:Events for Toronto Scottish Rugby Football Club
REFRESH-INTERVAL;VALUE=DURATION:PT1H
X-Robots-Tag:noindex
X-PUBLISHED-TTL:PT1H
BEGIN:VTIMEZONE
TZID:America/Toronto
BEGIN:DAYLIGHT
TZOFFSETFROM:-0500
TZOFFSETTO:-0400
TZNAME:EDT
DTSTART:20250309T070000
END:DAYLIGHT
BEGIN:STANDARD
TZOFFSETFROM:-0400
TZOFFSETTO:-0500
TZNAME:EST
DTSTART:20251102T060000
END:STANDARD
BEGIN:DAYLIGHT
TZOFFSETFROM:-0500
TZOFFSETTO:-0400
TZNAME:EDT
DTSTART:20260308T070000
END:DAYLIGHT
BEGIN:STANDARD
TZOFFSETFROM:-0400
TZOFFSETTO:-0500
TZNAME:EST
DTSTART:20261101T060000
END:STANDARD
BEGIN:DAYLIGHT
TZOFFSETFROM:-0500
TZOFFSETTO:-0400
TZNAME:EDT
DTSTART:20270314T070000
END:DAYLIGHT
BEGIN:STANDARD
TZOFFSETFROM:-0400
TZOFFSETTO:-0500
TZNAME:EST
DTSTART:20271107T060000
END:STANDARD
END:VTIMEZONE
BEGIN:VEVENT
DTSTART;TZID=America/Toronto:20260502T123000
DTEND;TZID=America/Toronto:20260502T123000
DTSTAMP:20260419T150827
CREATED:20260223T194903Z
LAST-MODIFIED:20260226T010908Z
UID:10000043-1777725000-1777725000@torontoscottish.ca
SUMMARY:TSRFC 1 (W) @ Waterloo County
DESCRIPTION:
URL:https://torontoscottish.ca/index.php/event/tsrfc-1-w-v-waterloo-county/
LOCATION:Bluevale Collegiate Insititute\, 80 Bluevale Street North\, Waterloo\, ON\, N2J 3R5
CATEGORIES:Fixtures,Women's 1st XV
END:VEVENT
BEGIN:VEVENT
DTSTART;TZID=America/Toronto:20260425T130000
DTEND;TZID=America/Toronto:20260425T170000
DTSTAMP:20260419T150827
CREATED:20260224T230413Z
LAST-MODIFIED:20260226T010832Z
UID:10000067-1777122000-1777136400@torontoscottish.ca
SUMMARY:Preseason: TSRFC Men v TBD
DESCRIPTION:Join us for an exciting pre-season match at NTCI on Saturday\, April 25th\, at 1 PM! Come out to support the team as they gear up for the season ahead. Afterwards\, we invite everyone to continue the festivities at the Duke of Kent for an informal gathering. Enjoy food\, drinks\, and great company as we cheer on our team together.
URL:https://torontoscottish.ca/index.php/event/preseason-20260425/
LOCATION:North Toronto Collegiate Institute\, 17 Broadway Ave\, Toronto\, ON\, M4P 1R2
CATEGORIES:Events
ATTACH;FMTTYPE=image/jpeg:https://torontoscottish.ca/wp-content/uploads/2026/02/ntci-1920x608-01.jpeg
END:VEVENT
BEGIN:VEVENT
DTSTART;TZID=America/Toronto:20260314T100000
DTEND;TZID=America/Toronto:20260314T170000
DTSTAMP:20260419T150827
CREATED:20260220T162047Z
LAST-MODIFIED:20260226T010804Z
UID:10000042-1773482400-1773507600@torontoscottish.ca
SUMMARY:6 Nations Rugby: SUPER SATURDAY Brunch Viewing Event
DESCRIPTION:Join us for the 6 Nations Rugby Super Saturday Viewing Event at The Leaside Pub! \nDoors Open 10am. No Cover.
URL:https://torontoscottish.ca/index.php/event/6-nations-rugby-super-saturday-brunch-viewing-event/
LOCATION:The Leaside Pub\, 190 Laird Dr\, Toronto\, ON\, M4G 3W2
CATEGORIES:Events
ATTACH;FMTTYPE=image/jpeg:https://torontoscottish.ca/wp-content/uploads/2026/02/the-leaside-pub-1080x608-01.jpeg
END:VEVENT
END:VCALENDAR