BEGIN:VCALENDAR
VERSION:2.0
PRODID:-//Toronto Scottish Rugby Football Club - ECPv6.15.17//NONSGML v1.0//EN
CALSCALE:GREGORIAN
METHOD:PUBLISH
X-WR-CALNAME:Toronto Scottish Rugby Football Club
X-ORIGINAL-URL:https://torontoscottish.ca
X-WR-CALDESC:Events for Toronto Scottish Rugby Football Club
REFRESH-INTERVAL;VALUE=DURATION:PT1H
X-Robots-Tag:noindex
X-PUBLISHED-TTL:PT1H
BEGIN:VTIMEZONE
TZID:America/Toronto
BEGIN:DAYLIGHT
TZOFFSETFROM:-0500
TZOFFSETTO:-0400
TZNAME:EDT
DTSTART:20250309T070000
END:DAYLIGHT
BEGIN:STANDARD
TZOFFSETFROM:-0400
TZOFFSETTO:-0500
TZNAME:EST
DTSTART:20251102T060000
END:STANDARD
BEGIN:DAYLIGHT
TZOFFSETFROM:-0500
TZOFFSETTO:-0400
TZNAME:EDT
DTSTART:20260308T070000
END:DAYLIGHT
BEGIN:STANDARD
TZOFFSETFROM:-0400
TZOFFSETTO:-0500
TZNAME:EST
DTSTART:20261101T060000
END:STANDARD
BEGIN:DAYLIGHT
TZOFFSETFROM:-0500
TZOFFSETTO:-0400
TZNAME:EDT
DTSTART:20270314T070000
END:DAYLIGHT
BEGIN:STANDARD
TZOFFSETFROM:-0400
TZOFFSETTO:-0500
TZNAME:EST
DTSTART:20271107T060000
END:STANDARD
END:VTIMEZONE
BEGIN:VEVENT
DTSTART;TZID=America/Toronto:20260606T140000
DTEND;TZID=America/Toronto:20260606T140000
DTSTAMP:20260419T164255
CREATED:20260224T230853Z
LAST-MODIFIED:20260226T011214Z
UID:10000071-1780754400-1780754400@torontoscottish.ca
SUMMARY:TSRFC 2 (M) v Oakville Crusaders
DESCRIPTION:
URL:https://torontoscottish.ca/index.php/event/tsrfc-2-m-v-oakville-crusaders/
LOCATION:Sunnybrook Park\, 1132 Leslie St\, Toronto\, ON
CATEGORIES:Fixtures,Men's 2nd XV
END:VEVENT
BEGIN:VEVENT
DTSTART;TZID=America/Toronto:20260606T123000
DTEND;TZID=America/Toronto:20260606T123000
DTSTAMP:20260419T164255
CREATED:20260223T194904Z
LAST-MODIFIED:20260226T011205Z
UID:10000047-1780749000-1780749000@torontoscottish.ca
SUMMARY:TSRFC 1 (W) @ Ottawa Irish
DESCRIPTION:
URL:https://torontoscottish.ca/index.php/event/tsrfc-1-w-v-ottawa-irish/
LOCATION:Ottawa Irish Rugby Club\, 2381 Ogilvie Rd\, Gloucester\, ON\, K1J 7N4
CATEGORIES:Fixtures,Women's 1st XV
END:VEVENT
BEGIN:VEVENT
DTSTART;TZID=America/Toronto:20260606T110000
DTEND;TZID=America/Toronto:20260606T110000
DTSTAMP:20260419T164255
CREATED:20260224T231213Z
LAST-MODIFIED:20260226T011152Z
UID:10000085-1780743600-1780743600@torontoscottish.ca
SUMMARY:TSRFC 3 (M) v Oakville Crusaders
DESCRIPTION:
URL:https://torontoscottish.ca/index.php/event/tsrfc-3-m-v-oakville-crusaders/
LOCATION:Sunnybrook Park\, 1132 Leslie St\, Toronto\, ON
CATEGORIES:Fixtures,Men's 3rd XV
END:VEVENT
BEGIN:VEVENT
DTSTART;TZID=America/Toronto:20260530T153000
DTEND;TZID=America/Toronto:20260530T153000
DTSTAMP:20260419T164255
CREATED:20260224T225323Z
LAST-MODIFIED:20260226T011143Z
UID:10000055-1780155000-1780155000@torontoscottish.ca
SUMMARY:TSRFC 1 (M) v Brantford Harlequins
DESCRIPTION:
URL:https://torontoscottish.ca/index.php/event/tsrfc-1-m-v-brantford-harlequins/
LOCATION:Sunnybrook Park\, 1132 Leslie St\, Toronto\, ON
CATEGORIES:Fixtures,Men's 1st XV
END:VEVENT
BEGIN:VEVENT
DTSTART;TZID=America/Toronto:20260530T140000
DTEND;TZID=America/Toronto:20260530T140000
DTSTAMP:20260419T164255
CREATED:20260224T230853Z
LAST-MODIFIED:20260226T011133Z
UID:10000070-1780149600-1780149600@torontoscottish.ca
SUMMARY:TSRFC 2 (M) v Brantford Harlequins
DESCRIPTION:
URL:https://torontoscottish.ca/index.php/event/tsrfc-2-m-v-brantford-harlequins/
LOCATION:Sunnybrook Park\, 1132 Leslie St\, Toronto\, ON
CATEGORIES:Fixtures,Men's 2nd XV
END:VEVENT
BEGIN:VEVENT
DTSTART;TZID=America/Toronto:20260530T123000
DTEND;TZID=America/Toronto:20260530T123000
DTSTAMP:20260419T164255
CREATED:20260223T194904Z
LAST-MODIFIED:20260226T011122Z
UID:10000046-1780144200-1780144200@torontoscottish.ca
SUMMARY:TSRFC 1 (W) v Kingston Panthers
DESCRIPTION:
URL:https://torontoscottish.ca/index.php/event/tsrfc-1-w-v-kingston-panthers/
LOCATION:Sunnybrook Park\, 1132 Leslie St\, Toronto\, ON
CATEGORIES:Fixtures,Women's 1st XV
END:VEVENT
BEGIN:VEVENT
DTSTART;TZID=America/Toronto:20260530T110000
DTEND;TZID=America/Toronto:20260530T110000
DTSTAMP:20260419T164255
CREATED:20260224T231213Z
LAST-MODIFIED:20260226T011110Z
UID:10000084-1780138800-1780138800@torontoscottish.ca
SUMMARY:TSRFC 3 (M) v Brantford Harlequins
DESCRIPTION:
URL:https://torontoscottish.ca/index.php/event/tsrfc-3-m-v-brantford-harlequins/
LOCATION:Sunnybrook Park\, 1132 Leslie St\, Toronto\, ON
CATEGORIES:Fixtures,Men's 3rd XV
END:VEVENT
BEGIN:VEVENT
DTSTART;TZID=America/Toronto:20260523T153000
DTEND;TZID=America/Toronto:20260523T153000
DTSTAMP:20260419T164255
CREATED:20260224T225323Z
LAST-MODIFIED:20260226T011057Z
UID:10000054-1779550200-1779550200@torontoscottish.ca
SUMMARY:TSRFC 1 (M) @ Burlington Centaurs
DESCRIPTION:
URL:https://torontoscottish.ca/index.php/event/tsrfc-1-m-burlington-centaurs/
LOCATION:Sherwood Forest Park\, 5270 Fairview St\, Burlington\, ON\, L7L 6B7
CATEGORIES:Fixtures,Men's 1st XV
END:VEVENT
BEGIN:VEVENT
DTSTART;TZID=America/Toronto:20260523T140000
DTEND;TZID=America/Toronto:20260523T140000
DTSTAMP:20260419T164255
CREATED:20260224T230852Z
LAST-MODIFIED:20260226T011046Z
UID:10000069-1779544800-1779544800@torontoscottish.ca
SUMMARY:TSRFC 2 (M) @ Burlington Centaurs
DESCRIPTION:
URL:https://torontoscottish.ca/index.php/event/tsrfc-2-m-burlington-centaurs/
LOCATION:Sherwood Forest Park\, 5270 Fairview St\, Burlington\, ON\, L7L 6B7
CATEGORIES:Fixtures,Men's 2nd XV
END:VEVENT
BEGIN:VEVENT
DTSTART;TZID=America/Toronto:20260523T123000
DTEND;TZID=America/Toronto:20260523T123000
DTSTAMP:20260419T164255
CREATED:20260223T194903Z
LAST-MODIFIED:20260226T011031Z
UID:10000045-1779539400-1779539400@torontoscottish.ca
SUMMARY:TSRFC 1 (W) v London St. George
DESCRIPTION:
URL:https://torontoscottish.ca/index.php/event/tsrfc-1-w-v-london-st-george/
LOCATION:Sunnybrook Park\, 1132 Leslie St\, Toronto\, ON
CATEGORIES:Fixtures,Women's 1st XV
END:VEVENT
BEGIN:VEVENT
DTSTART;TZID=America/Toronto:20260523T110000
DTEND;TZID=America/Toronto:20260523T110000
DTSTAMP:20260419T164255
CREATED:20260226T010427Z
LAST-MODIFIED:20260226T011021Z
UID:10000090-1779534000-1779534000@torontoscottish.ca
SUMMARY:TSRFC 3 (M) @ Burlington Centaurs
DESCRIPTION:
URL:https://torontoscottish.ca/index.php/event/tsrfc-3-m-burlington-centaurs-2/
LOCATION:Sherwood Forest Park\, 5270 Fairview St\, Burlington\, ON\, L7L 6B7
CATEGORIES:Fixtures,Men's 3rd XV
END:VEVENT
BEGIN:VEVENT
DTSTART;TZID=America/Toronto:20260509T153000
DTEND;TZID=America/Toronto:20260509T153000
DTSTAMP:20260419T164255
CREATED:20260224T225323Z
LAST-MODIFIED:20260226T011013Z
UID:10000053-1778340600-1778340600@torontoscottish.ca
SUMMARY:TSRFC 1 (M) @ Waterloo County
DESCRIPTION:
URL:https://torontoscottish.ca/index.php/event/tsrfc-1-m-waterloo-county/
LOCATION:Bluevale Collegiate Insititute\, 80 Bluevale Street North\, Waterloo\, ON\, N2J 3R5
CATEGORIES:Fixtures,Men's 1st XV
END:VEVENT
BEGIN:VEVENT
DTSTART;TZID=America/Toronto:20260509T140000
DTEND;TZID=America/Toronto:20260509T140000
DTSTAMP:20260419T164255
CREATED:20260224T230852Z
LAST-MODIFIED:20260226T011002Z
UID:10000068-1778335200-1778335200@torontoscottish.ca
SUMMARY:TSRFC 2 (M) @ Waterloo County
DESCRIPTION:
URL:https://torontoscottish.ca/index.php/event/tsrfc-2-m-waterloo-county/
LOCATION:Bluevale Collegiate Insititute\, 80 Bluevale Street North\, Waterloo\, ON\, N2J 3R5
CATEGORIES:Fixtures,Men's 2nd XV
END:VEVENT
BEGIN:VEVENT
DTSTART;TZID=America/Toronto:20260509T123000
DTEND;TZID=America/Toronto:20260509T123000
DTSTAMP:20260419T164255
CREATED:20260223T194903Z
LAST-MODIFIED:20260226T010949Z
UID:10000044-1778329800-1778329800@torontoscottish.ca
SUMMARY:TSRFC 1 (W) @ Burlington Centaurs
DESCRIPTION:
URL:https://torontoscottish.ca/index.php/event/tsrfc-1-w-v-burlington-centaurs/
LOCATION:Sherwood Forest Park\, 5270 Fairview St\, Burlington\, ON\, L7L 6B7
CATEGORIES:Fixtures,Women's 1st XV
END:VEVENT
BEGIN:VEVENT
DTSTART;TZID=America/Toronto:20260509T110000
DTEND;TZID=America/Toronto:20260509T110000
DTSTAMP:20260419T164255
CREATED:20260225T144101Z
LAST-MODIFIED:20260226T010937Z
UID:10000092-1778324400-1778324400@torontoscottish.ca
SUMMARY:TSRFC 3 (M) @ Waterloo County
DESCRIPTION:
URL:https://torontoscottish.ca/index.php/event/tsrfc-3-m-waterloo-county-2/
LOCATION:Bluevale Collegiate Insititute\, 80 Bluevale Street North\, Waterloo\, ON\, N2J 3R5
CATEGORIES:Fixtures,Men's 3rd XV
END:VEVENT
BEGIN:VEVENT
DTSTART;TZID=America/Toronto:20260502T123000
DTEND;TZID=America/Toronto:20260502T123000
DTSTAMP:20260419T164255
CREATED:20260223T194903Z
LAST-MODIFIED:20260226T010908Z
UID:10000043-1777725000-1777725000@torontoscottish.ca
SUMMARY:TSRFC 1 (W) @ Waterloo County
DESCRIPTION:
URL:https://torontoscottish.ca/index.php/event/tsrfc-1-w-v-waterloo-county/
LOCATION:Bluevale Collegiate Insititute\, 80 Bluevale Street North\, Waterloo\, ON\, N2J 3R5
CATEGORIES:Fixtures,Women's 1st XV
END:VEVENT
BEGIN:VEVENT
DTSTART;TZID=America/Toronto:20260425T130000
DTEND;TZID=America/Toronto:20260425T170000
DTSTAMP:20260419T164255
CREATED:20260224T230413Z
LAST-MODIFIED:20260226T010832Z
UID:10000067-1777122000-1777136400@torontoscottish.ca
SUMMARY:Preseason: TSRFC Men v TBD
DESCRIPTION:Join us for an exciting pre-season match at NTCI on Saturday\, April 25th\, at 1 PM! Come out to support the team as they gear up for the season ahead. Afterwards\, we invite everyone to continue the festivities at the Duke of Kent for an informal gathering. Enjoy food\, drinks\, and great company as we cheer on our team together.
URL:https://torontoscottish.ca/index.php/event/preseason-20260425/
LOCATION:North Toronto Collegiate Institute\, 17 Broadway Ave\, Toronto\, ON\, M4P 1R2
CATEGORIES:Events
ATTACH;FMTTYPE=image/jpeg:https://torontoscottish.ca/wp-content/uploads/2026/02/ntci-1920x608-01.jpeg
END:VEVENT
BEGIN:VEVENT
DTSTART;TZID=America/Toronto:20260314T100000
DTEND;TZID=America/Toronto:20260314T170000
DTSTAMP:20260419T164255
CREATED:20260220T162047Z
LAST-MODIFIED:20260226T010804Z
UID:10000042-1773482400-1773507600@torontoscottish.ca
SUMMARY:6 Nations Rugby: SUPER SATURDAY Brunch Viewing Event
DESCRIPTION:Join us for the 6 Nations Rugby Super Saturday Viewing Event at The Leaside Pub! \nDoors Open 10am. No Cover.
URL:https://torontoscottish.ca/index.php/event/6-nations-rugby-super-saturday-brunch-viewing-event/
LOCATION:The Leaside Pub\, 190 Laird Dr\, Toronto\, ON\, M4G 3W2
CATEGORIES:Events
ATTACH;FMTTYPE=image/jpeg:https://torontoscottish.ca/wp-content/uploads/2026/02/the-leaside-pub-1080x608-01.jpeg
END:VEVENT
END:VCALENDAR