BEGIN:VCALENDAR
VERSION:2.0
PRODID:-//Toronto Scottish Rugby Football Club - ECPv6.15.17//NONSGML v1.0//EN
CALSCALE:GREGORIAN
METHOD:PUBLISH
X-WR-CALNAME:Toronto Scottish Rugby Football Club
X-ORIGINAL-URL:https://torontoscottish.ca
X-WR-CALDESC:Events for Toronto Scottish Rugby Football Club
REFRESH-INTERVAL;VALUE=DURATION:PT1H
X-Robots-Tag:noindex
X-PUBLISHED-TTL:PT1H
BEGIN:VTIMEZONE
TZID:America/Toronto
BEGIN:DAYLIGHT
TZOFFSETFROM:-0500
TZOFFSETTO:-0400
TZNAME:EDT
DTSTART:20250309T070000
END:DAYLIGHT
BEGIN:STANDARD
TZOFFSETFROM:-0400
TZOFFSETTO:-0500
TZNAME:EST
DTSTART:20251102T060000
END:STANDARD
BEGIN:DAYLIGHT
TZOFFSETFROM:-0500
TZOFFSETTO:-0400
TZNAME:EDT
DTSTART:20260308T070000
END:DAYLIGHT
BEGIN:STANDARD
TZOFFSETFROM:-0400
TZOFFSETTO:-0500
TZNAME:EST
DTSTART:20261101T060000
END:STANDARD
BEGIN:DAYLIGHT
TZOFFSETFROM:-0500
TZOFFSETTO:-0400
TZNAME:EDT
DTSTART:20270314T070000
END:DAYLIGHT
BEGIN:STANDARD
TZOFFSETFROM:-0400
TZOFFSETTO:-0500
TZNAME:EST
DTSTART:20271107T060000
END:STANDARD
END:VTIMEZONE
BEGIN:VEVENT
DTSTART;TZID=America/Toronto:20260711T123000
DTEND;TZID=America/Toronto:20260711T123000
DTSTAMP:20260419T115733
CREATED:20260223T194906Z
LAST-MODIFIED:20260226T011623Z
UID:10000051-1783773000-1783773000@torontoscottish.ca
SUMMARY:TSRFC 1 (W) @ Belleville Bulldogs
DESCRIPTION:
URL:https://torontoscottish.ca/index.php/event/tsrfc-1-w-v-belleville-bulldogs/
LOCATION:Mary Anne Sills Park\, 140 Palmer Road\, Belleville\, ON\, K8P 4E7
CATEGORIES:Fixtures,Women's 1st XV
END:VEVENT
BEGIN:VEVENT
DTSTART;TZID=America/Toronto:20260711T140000
DTEND;TZID=America/Toronto:20260711T140000
DTSTAMP:20260419T115733
CREATED:20260224T230855Z
LAST-MODIFIED:20260226T011633Z
UID:10000075-1783778400-1783778400@torontoscottish.ca
SUMMARY:TSRFC 2 (M) @ Brantford Harlequins
DESCRIPTION:
URL:https://torontoscottish.ca/index.php/event/tsrfc-2-m-brantford-harlequins/
LOCATION:Brantford Harlequins RFC\, 22 Powerline Rd\, Brantford\, ON\, N3R 0B9
CATEGORIES:Fixtures,Men's 2nd XV
END:VEVENT
BEGIN:VEVENT
DTSTART;TZID=America/Toronto:20260711T153000
DTEND;TZID=America/Toronto:20260711T153000
DTSTAMP:20260419T115733
CREATED:20260224T225329Z
LAST-MODIFIED:20260226T011645Z
UID:10000060-1783783800-1783783800@torontoscottish.ca
SUMMARY:TSRFC 1 (M) @ Brantford Harlequins
DESCRIPTION:
URL:https://torontoscottish.ca/index.php/event/tsrfc-1-m-brantford-harlequins/
LOCATION:Brantford Harlequins RFC\, 22 Powerline Rd\, Brantford\, ON\, N3R 0B9
CATEGORIES:Fixtures,Men's 1st XV
END:VEVENT
BEGIN:VEVENT
DTSTART;TZID=America/Toronto:20260718T123000
DTEND;TZID=America/Toronto:20260718T123000
DTSTAMP:20260419T115733
CREATED:20260223T194906Z
LAST-MODIFIED:20260226T011657Z
UID:10000052-1784377800-1784377800@torontoscottish.ca
SUMMARY:TSRFC 1 (W) @ London St. George
DESCRIPTION:
URL:https://torontoscottish.ca/index.php/event/tsrfc-1-w-v-london-st-george-2/
LOCATION:London St. George’s RFC\, 4308 Dundas Street\, Thames Centre\, ON\, N0M 2P0
CATEGORIES:Fixtures,Women's 1st XV
END:VEVENT
BEGIN:VEVENT
DTSTART;TZID=America/Toronto:20260718T140000
DTEND;TZID=America/Toronto:20260718T140000
DTSTAMP:20260419T115733
CREATED:20260224T230855Z
LAST-MODIFIED:20260226T011709Z
UID:10000076-1784383200-1784383200@torontoscottish.ca
SUMMARY:TSRFC 2 (M) v Waterloo County
DESCRIPTION:
URL:https://torontoscottish.ca/index.php/event/tsrfc-2-m-v-waterloo-county/
LOCATION:Sunnybrook Park\, 1132 Leslie St\, Toronto\, ON
CATEGORIES:Fixtures,Men's 2nd XV
END:VEVENT
BEGIN:VEVENT
DTSTART;TZID=America/Toronto:20260718T153000
DTEND;TZID=America/Toronto:20260718T153000
DTSTAMP:20260419T115733
CREATED:20260224T225329Z
LAST-MODIFIED:20260226T011718Z
UID:10000061-1784388600-1784388600@torontoscottish.ca
SUMMARY:TSRFC 1 (M) v Waterloo County
DESCRIPTION:
URL:https://torontoscottish.ca/index.php/event/tsrfc-1-m-v-waterloo-county/
LOCATION:Sunnybrook Park\, 1132 Leslie St\, Toronto\, ON
CATEGORIES:Fixtures,Men's 1st XV
END:VEVENT
END:VCALENDAR